BEGIN:VCALENDAR
VERSION:2.0
PRODID:-//First Aid Tactics LLC - ECPv6.15.20//NONSGML v1.0//EN
CALSCALE:GREGORIAN
METHOD:PUBLISH
X-WR-CALNAME:First Aid Tactics LLC
X-ORIGINAL-URL:https://firstaidtactics.com
X-WR-CALDESC:Events for First Aid Tactics LLC
REFRESH-INTERVAL;VALUE=DURATION:PT1H
X-Robots-Tag:noindex
X-PUBLISHED-TTL:PT1H
BEGIN:VTIMEZONE
TZID:America/New_York
BEGIN:DAYLIGHT
TZOFFSETFROM:-0500
TZOFFSETTO:-0400
TZNAME:EDT
DTSTART:20210314T070000
END:DAYLIGHT
BEGIN:STANDARD
TZOFFSETFROM:-0400
TZOFFSETTO:-0500
TZNAME:EST
DTSTART:20211107T060000
END:STANDARD
BEGIN:DAYLIGHT
TZOFFSETFROM:-0500
TZOFFSETTO:-0400
TZNAME:EDT
DTSTART:20220313T070000
END:DAYLIGHT
BEGIN:STANDARD
TZOFFSETFROM:-0400
TZOFFSETTO:-0500
TZNAME:EST
DTSTART:20221106T060000
END:STANDARD
BEGIN:DAYLIGHT
TZOFFSETFROM:-0500
TZOFFSETTO:-0400
TZNAME:EDT
DTSTART:20230312T070000
END:DAYLIGHT
BEGIN:STANDARD
TZOFFSETFROM:-0400
TZOFFSETTO:-0500
TZNAME:EST
DTSTART:20231105T060000
END:STANDARD
END:VTIMEZONE
BEGIN:VEVENT
DTSTART;TZID=America/New_York:20220109T090000
DTEND;TZID=America/New_York:20220109T120000
DTSTAMP:20260423T083708
CREATED:20211124T175118Z
LAST-MODIFIED:20211130T182617Z
UID:10000032-1641718800-1641729600@firstaidtactics.com
SUMMARY:Beyond Stop The Bleed - 01/09/2022 - Tri-Town Rod&Gun Exclusive
DESCRIPTION:This is an exclusive event for Tri-Town Rod and Gun Club Members
URL:https://firstaidtactics.com/event/beyond-stop-the-bleed-01-09-2022-tri-town-rodgun-exclusive/
LOCATION:Tri-Town Rod & Gun Club\, 45 Isthmus Rd\, Foster\, 02825\, United States
CATEGORIES:Beyond Stop The Bleed
ATTACH;FMTTYPE=image/png:https://firstaidtactics.com/wp-content/uploads/2021/10/Beyond-STB-logo.png
ORGANIZER;CN="First Aid Tactics LLC":MAILTO:info@firstaidtactics.com
END:VEVENT
END:VCALENDAR